BEGIN:VCALENDAR
VERSION:2.0
PRODID:-//wp-events-plugin.com//7.2.3.1//EN
BEGIN:VEVENT
UID:339@canicross-coach.com
DTSTART:20241109T090000Z
DTEND:20241109T150000Z
DTSTAMP:20240903T182433Z
URL:https://canicross-coach.com/events/zughundeworkshop-november-2024-wien
SUMMARY:Zughundeworkshop November Wien (SPR)
DESCRIPTION:\nZughundesport Workshop von Markus Gerstl wurde konzipiert um 
 Neueinsteigern aber auch erfahrenen Sportlern mit Ihrem Hund viel Fachwiss
 en und Sicherheitsaspekte auf Ihren neuem Weg im Zughundesport mitzugeben.
 \n\n\nZielgruppe: \n\n\nEinsteiger und Fortgeschrittene\n\n\nZughundesport
  macht aus Eurem Hund und Euch ein starkes Team das noch stärker zusammen
 wächst und gemeinsam seine Fitness steigert.\n\n \n\n\nLerne von dem erf
 ahrensten Canicross Team Österreichs wie Canicross\, Bikejøring sowie Sc
 ooterjøring richtig und sicher ausgeübt wird.\n\n\n \n\n\nZielsetzung: 
 mit theoretischen und praktischen Übungen ein starkes Hundeteam zu förde
 rn und die gemeinsame Fitness\, den Aufbau und Ablauf der sportlichen Geme
 insamkeit mit dem Hund zu optimieren.\n\n\nEquipment steht zum testen und 
 ausprobieren bereit aber auch neu könnt ihr Non-Stop Equipment erwerben.\
 n\n \n\n\nWir freuen uns wieder auf viele neue Gesichter\n\n\n \n\n\nEue
 r Trainer Markus\n\n\n \n\n\n\nKostenpunkt /Teilnehmer 130€\nFrühbuche
 r 109€ bis 01.10.24\nFür Mitglieder des Vereins Canicross Union Wien 10
 9€\nFrühbucher 90€ bis 01.10.24\nEssen &amp\; Tee inkl.\nmaximal 8 Te
 ilnehmer!\n\nAnmeldung nur über das Anmeldeformular\nEmail an wien@speedr
 unners.at\n\n\n\n\n&nbsp\;\n\n\n\n&nbsp\;\n\n\n\n
ATTACH;FMTTYPE=image/jpeg:https://canicross-coach.com/wp-content/uploads/2
 023/02/SPR.png
CATEGORIES:Bikejøring,Canicross,Scooterjøring,Workshop,Zughundesport
LOCATION:ÖGV Hundeschule Heustadlwasser Wien\, Lusthausstrasse 1\, Wien\, 
 Wien\, 1020\, Österreich
GEO:48.1989358;16.419700199999966
X-APPLE-STRUCTURED-LOCATION;VALUE=URI;X-ADDRESS=Lusthausstrasse 1\, Wien\, 
 Wien\, 1020\, Österreich;X-APPLE-RADIUS=100;X-TITLE=ÖGV Hundeschule Heus
 tadlwasser Wien:geo:48.1989358,16.419700199999966
END:VEVENT
END:VCALENDAR