BEGIN:VCALENDAR
VERSION:2.0
PRODID:-//wp-events-plugin.com//7.2.3.1//EN
BEGIN:VEVENT
UID:345@canicross-coach.com
DTSTART;VALUE=DATE:20250307
DTEND;VALUE=DATE:20250310
DTSTAMP:20250113T091722Z
URL:https://canicross-coach.com/events/snow-canicross-sportgastein-23-inte
 rnationalen-schlittenhunderennen
SUMMARY:Snow Canicross Sportgastein (23. Internationalen Schlittenhunderenn
 en)
DESCRIPTION:VERMUTLICH DAS SCHÖNSTE SCHLITTENHUNDERENNEN DER SAISON\n\n 	R
 ennen zum IFSS WORLD CUP\n 	Rennen zur   WSA WORLD TROPHY\n 	Rennen zur
    INTERNATIONALEN ÖSTERREICHISCHEN MEISTERSCHAFT SNOW\n 	Rennen zum 
 CANIS LAB CUP\n\n&nbsp\;\n\n\n\n&nbsp\;\n\n&nbsp\;\n\n&nbsp\;\n\n&nbsp\;\n
 \n&nbsp\;\n\n&nbsp\;\n\n&nbsp\;\n\n&nbsp\;\n\n&nbsp\;\n\nVeranstalter: RS
 SC - Austria in Kooperation mit dem AFSS\nOrt: A-5640 Sportgastein\n\nVe
 ranstalter Seite und Anmeldung\n\nDatum: 08. bis 09. März 2025\nKategori
 en:\n\nSW1\, SM1\, SW2\, SM2\, SP2\, SP4\, SP6\, SP8\, SPU\, )\, Happy Dog
 \n\nRegistered Nordic Breed: RNB1 bzw. RNB2 ab 3 Starter je Kategorie\, da
 s gleiche gilt für Jugend und Junioren (SP2Y /SP2J / SP4Y / SP4J)\, Happy
  Dog\n\nAuch dieses Jahr wieder: CANICROSS ON SNOW\nDCW (19-99 Jahre) / D
 CM (19-99 Jahre) / DCWJ(14-18 Jahre) / DCMJ (14-18 Jahre) / DCWY (11-13 J
 ahre) / DCMY (11-13 Jahre)\nRegistered Nordic Breed: RNB ab 3 Starter je K
 ategorie\, das gleiche gilt für Jugend (11-13 Jahre) und Junioren (14-18 
 Jahre)\n\nReglement:\nEs wird nach IFSS Reglement gefahren und für Cani
 cross on Snow nach AFSS Relement  gelaufen.\nAnsonst gilt:\n„Gemeinsam 
 fahren\, getrennt werten“.\nFCI Papiere\, Chip\, EU-Heimtierpass mit all
 en erforderlichen Impfungen\, Nachweis einer Haftpflichtversicherung\, bit
 te unbedingt ausgefüllte Chiplisten mitbringen.\n\nAuch für Hunde die in
  der offenen Kategorie  (alle Hunde welche nicht in RNB1 oder RNB2 fallen
 ) oder am Wettkampf nicht teilnehmende Hunde\, gelten dieselben Bestimmung
 en bezüglich Impfungen und Versicherung.\n\nDie Anmeldefrist endet mit 25
 .02.2023 oder nach 120 gemeldeten Startern.\nDas Schneecanicrossrennen wi
 rd auf max. 60 Starter begrenzt.\nDer Veranstalter behält sich vor\, die 
 Starteranzahl abzuändern.\n\nDie im Bewerb eingesetzten Hunde müssen ein
  Mindestalter von 15 Monate haben. Jeder Teilnehmer nimmt zur Kenntnis\, d
 ass er auf eigene Gefahr und Risiko an der Veranstaltung teilnimmt und kei
 ne Regressforderung an den Veranstalter und den ausrichtenden Verein stell
 t\, desweiteren akzeptiert er die oben angeführten Reglements und das Eth
 ik Papier der WSA zu finden unter http://www.wsa-sleddog.com/wsaweb/2015/i
 ndex.php/de/tierschutz/ethikpapier\n\nStreckenlänge: Sprint ca. 6km (SP2)
 \, 7km (SP4)\, 11km (SP6 und alle Skikategorien) und 17 km (SP8\, SPU).\nS
 treckenlänge Canicross: ca 4\,5 Kilometer – selektiv\nAnreise: Freitag
  den 07.03.2025 ab 12.00 Uhr möglich.\nWasser und Toiletten befinden sic
 h im Valeriehaus direkt am StakeOut.\n\nRennablauf:\n\nca. 20:00 Freitag -
  Startnummernausgabe - Valeriehaus - für alle die am Samstag anreisen - S
 tartnummern um 9:30 bei der Musherbesprechung\nca. 10:30 Samstag - Skijör
 ing und Schlittenkategorien im Anschluss Snow CC mit Massenstart\nMusherab
 end Samstag in der Goldbergstube (Platz für Alle).\nca. 10:30 Sonntag - S
 kijöring und Schlittenkategorien im Anschluss Snow CC mit Massenstart.\nS
 iegerehrung um ca. 14:00\n\nStartgebühr Schlitten- und Skijöringklassen:
           RSSC Mitglieder € 75\,-\nNichtmitglieder € 95\,-\nMehrf
 achstart je Kategorie € 45\,- ohne Musheressen\n\nStartgebühr Schneecan
 icross ohne Musheressen: RSSC Mitglieder € 35\,-\nNichtmitglieder    
 € 45\,-\nACHTUNG - DIE ANMELDUNG IST ERST NACH EINGANG DES STARTGELDES 
 JE STARTPLATZ AUF DAS KONTO DES RSSC AUSTRIA GÜLTIG (AT 15 3633 6000 0
 054 3934 BIC: RZBAATWWXXX). BEI FEHLEN DES ZAHLUNGSEINGANGES BIS LÄNGSTE
 NS 26.FEBRUAR 2025 WIRST DU WIEDER VON DER STARTLISTE  GELÖSCHT. DIE M
 ELDEGEBÜHR WIRD BEI ABSAGE DES RENNENS NICHT ZURÜCKERSTATTET.\n\nATTENTI
 ON - THE REGISTRATION IS ONLY VALID AFTER RECEIVING THE STARTINGFEE PER S
 TARTPLACE TO THE ACCOUNT OF THE RSSC AUSTRIA (AT 15 3633 6000 0054 3934 B
 IC: RZBAATWWXXX). IF WE HAVE NO PAYMENT UNTIL THE 30th January FROM THE PA
 RTICIPANT\, THE STARTPLACE IST LOST AND YOU WILL BE DELETED FROM THE START
 ING LIST.  THE REGISTATIONFEE WILL NOT BE REFUNDET IN CASE OF AN CANELATI
 ON OF THE RACE.\n\nUmmeldungen vor Ort und nach Meldeschluss sind für den
  Veranstalter ein großer Aufwand. Leider sehen wir uns gezwungen für Umm
 eldungen nach Meldeschluss eine Gebühr von € 20\,00 je Ummeldung einzuh
 eben.\n\nIn der Startgebühr ist  je ein Essen für den Musher inkludier
 t.\nStromanschlussmöglichkeit ist keine vorhanden. Bitte beachtet unbedin
 gt\, bei Gebrauch von Aggregaten die Nachtruhe zwischen  22.00 und  7.00
  Uhr.\n\nEinverständniserklärung zu Foto- und/oder Filmaufnahmen\n\nIch 
 erkläre mich damit einverstanden\, dass im Rahmen der Veranstaltung Bilde
 r und/oder Videos von den Teilnehmer_innen gemacht werden und zur Veröffe
 ntlichung\n\n 	auf der Homepages\n 	in (Print-)Publikationen\n 	auf der Fa
 cebook-Seiten\n 	zu Werbezwecken\n\nunentgeltlich verwendet\, sowie verwer
 tet und zu diesem Zwecke auch abgespeichert werden dürfen.\n\nIch bin mi
 r darüber im Klaren\, dass Fotos und/oder Videos im Internet von beliebig
 en Personen abgerufen werden können. Es kann trotz aller technischer Vork
 ehrungen nicht ausgeschlossen werden\, dass solche Personen die Fotos und/
 oder Videos weiterverwenden oder an andere Personen weitergeben.\n\nIch ha
 be die Hinweise gemäß Art. 13 DSGVO gelesen und verstanden.\nDiese Einv
 erständniserklärung ist freiwillig und kann gegenüber dem RSSC-Austria 
 unter der Mailadresse office@rssc-austria bis längsten 09.03.2025 widerru
 fen werden.
ATTACH;FMTTYPE=image/jpeg:https://canicross-coach.com/wp-content/uploads/2
 021/10/logo_mit_schrift_oben_94x250-e1676199494352.png
CATEGORIES:Canicross,Rennen,Skijøring,Zughundesport
LOCATION:Sportgastein\, Nassfeld 5\, Bad Gastein\, 5645\, Österreich
GEO:47.061069;13.056328600000029
X-APPLE-STRUCTURED-LOCATION;VALUE=URI;X-ADDRESS=Nassfeld 5\, Bad Gastein\, 
 5645\, Österreich;X-APPLE-RADIUS=100;X-TITLE=Sportgastein:geo:47.061069,1
 3.056328600000029
END:VEVENT
END:VCALENDAR