BEGIN:VCALENDAR
VERSION:2.0
PRODID:-//wp-events-plugin.com//7.2.3.1//EN
BEGIN:VEVENT
UID:333@canicross-coach.com
DTSTART;VALUE=DATE:20240228
DTEND;VALUE=DATE:20240304
DTSTAMP:20240117T114715Z
URL:https://canicross-coach.com/events/snow-canicross-sportgastein-22
SUMMARY:WSA WM  (Schlittenhunde Reinrassig) Sportgastein
DESCRIPTION:Contact http://www.rssc-austria.at/\n\n\n\n\nProgramm:\n&nbsp\
 ;\n\nMittwoch\, 28.2.2024\n10.00-17.00 Anreise der Teams\nEs besteht die M
 öglichkeit\, die Gespanne am „Stake Out“ zu besuchen (Streichel- und 
 Informations-Nachmittag)\n\n\nDonnerstag\, 29.2.2024\n10.00-16.00 Anreise 
 der Teams\nEs besteht die Möglichkeit\, die Gespanne am „Stake Out“ z
 u besuchen (Streichel- und Informations-Nachmittag)\n18.00-19.30 Eröffnun
 gsfeier mit Einmarsch der Nationen (16 bis 25 Nationen)\n\nFreitag\, 1.3.2
 024 (1. Durchgang):\n8.30 Start der Mitteldistanzgespanne – Laufzeit ca
 . 1\,5 bis 2 Stunden.\n10.00 Start der Sprintgespanne\n14.00 Start Staffel
 lauf – Duell der Nationen\nEs besteht die Möglichkeit\, die Gespanne am
  „Stake Out“ zu besuchen (Streichel- und Informations-Nachmittag)\n\nS
 amstag\, 2.3.2024 (2. Durchgang)\n8.30 Start der Mitteldistanzgespanne 
 – Laufzeit ca. 1\,5 bis 2 Stunden.\n10.00 Start der Sprintgespanne\n14.0
 0 Start Schneecanicross\nEs besteht die Möglichkeit die Gespanne am „St
 ake Out“ zu besuchen (Streichel- und Informations-Nachmittag)\n19.00-22.
 00 Sportlerabend mit Siegerehrung der Weltcupgewinner (Rennserie der ganze
 n Saison mit Teilnehmer*innen aus ganz Europa)\n\nSonntag\, 3.3.2024 (3. 
 Durchgang)\n8.30 Start der Mitteldistanzgespanne – Laufzeit ca. 1\,5 bis
  2 Stunden.\n10.00 Start der Sprintgespanne\n14.00 Start Schneecanicross\n
 Es besteht die Möglichkeit\, die Gespanne am „Stake Out“ zu besuchen 
 (Streichel- und Informations-Nachmittag)\n15.30-16.30 Siegerehrung\n\n\n\n
 \n\n\n\n\n\n\n\n\nVeranstaltungsort\n\n\nSportgastein\nNassfelderweg\n5645
  Böckstein\, AT\n\ninfo@gasteiner-alpenstrasse.at\nhttp://www.gasteiner
 -alpenstrasse.at\n0043 06434 2398\n0043 6432 3393560\n\n\n
ATTACH;FMTTYPE=image/jpeg:https://canicross-coach.com/wp-content/uploads/2
 021/10/logo_mit_schrift_oben_94x250-e1676199494352.png
CATEGORIES:Canicross,Rennen,Skijøring,Zughundesport
LOCATION:Sportgastein\, Nassfeld 5\, Bad Gastein\, 5645\, Österreich
GEO:47.061069;13.056328600000029
X-APPLE-STRUCTURED-LOCATION;VALUE=URI;X-ADDRESS=Nassfeld 5\, Bad Gastein\, 
 5645\, Österreich;X-APPLE-RADIUS=100;X-TITLE=Sportgastein:geo:47.061069,1
 3.056328600000029
END:VEVENT
END:VCALENDAR