BEGIN:VCALENDAR
VERSION:2.0
PRODID:-//wp-events-plugin.com//7.2.3.1//EN
BEGIN:VEVENT
UID:337@canicross-coach.com
DTSTART:20250116T120000Z
DTEND:20250119T120000Z
DTSTAMP:20241228T124615Z
URL:https://canicross-coach.com/events/skijoering-wochenden-ramsau-spr-3
SUMMARY:Skijoering Wochenden Ramsau (SPR) Abgesagt
DESCRIPTION:\nLanglauf Skating Kurs in der Ramsau mit (Skijoering) oder ohn
 e Hund möglich.\n\n\nErlerne Langlaufen mit der modernen Skating Technik 
 oder verbessere deine Technik. Geeignet für Anfänger oder Fortgeschritte
 ne.\n\n\n\nDatum 16.01.-19.01.2025\nTrainer Skating Thomas Drucker von Spo
 rt nach Mass\nhttps://sport-nach-mass.com/\nTrainer Skijoering Markus Gers
 tl\nUnterbringung in einer Pension in der Ramsau kosten mit Frühstück /P
 /Nacht 45€ (Sauna und Whirlpool)\, /Hund ca 8€(Nacht)\nEs gibt zwei Zi
 mmer in einem 4 Sterne Hotel an der Piste mit SPA und Halbpension\, kosten
  75€/Nacht/Person\, Hund/Nacht 15€ .\nTrainerkosten 150€ einmalig Sk
 ating\, Trainerkosten Skijoering 50€ einmalig\, Loipenbenutzung 40€ ei
 nmalig\, Exklusive Skijoering Loipe 30€\nSkating Leihausrüstung /Tag ca
  30€\n\n\nWir reservieren für euch die Zimmer\, organisieren gemeinsame
 s Essen mit Catering. Anreisetag ist der 16.01.25  da könnt ihr Equipmen
 t organisieren und ausleihen\, zu vergünstigten Preisen. Am ersten Tag is
 t am Abend Besprechung der folgenden Tage. Der 19.01. ist Abreisetag\, bei
  bedarf kann noch am Vormittag oder den ganzen Tag trainiert werden. Begle
 itpersonen oder Personen ohne Hund sind ebenso Willkommen. Es wird für un
 s mit Hund eine eigene kurze Loipe\, Runde\, präpariert.\n\n\n\n\nWir fre
 uen uns auf einige gemeinsame Tage in der Ramsau.\n\n\n\nWegen zu wenig Te
 ilnehmern diesmal abgesagt.\nFragen an Wien@speedrunners.at\n\n\nEuer Spee
 dRunners.at Laufen mit Hund Team\n\n\n\n\n\n\n\n\n\n\n\n\n\nFotokredit Jag
 oda Waskowska\n
ATTACH;FMTTYPE=image/jpeg:https://canicross-coach.com/wp-content/uploads/2
 022/06/sportnachmass.png
CATEGORIES:Beratung Hundesport,Skijøring,Training,Training
 SpeedRunners.at,Zughundesport
END:VEVENT
END:VCALENDAR