BEGIN:VCALENDAR
VERSION:2.0
PRODID:-//wp-events-plugin.com//7.2.3.1//EN
BEGIN:VEVENT
UID:335@canicross-coach.com
DTSTART:20240307T120000Z
DTEND:20240310T120000Z
DTSTAMP:20240119T075934Z
URL:https://canicross-coach.com/events/skijoering-wochenden-ramsau-spr-2
SUMMARY:Skijoering Wochenden Ramsau (SPR)
DESCRIPTION:\nLanglauf Skating Kurs in der Ramsau mit (Skijoering) oder ohn
 e Hund möglich.\n\n\nErlerne Langlaufen mit der modernen Skating Technik 
 oder verbessere deine Technik. Geeignet für Anfänger oder Fortgeschritte
 ne.\n\n\n\nDatum 07.03.-10.03.2024\nTrainer Skating Thomas Drucker von Spo
 rt nach Mass\nhttps://sport-nach-mass.com/\nTrainer Skijoering Markus Gers
 tl\nUnterbringung in einer Pension in der Ramsau kosten mit Frühstück /P
 /Nacht 45€ (Sauna und Whirlpool)\, /Hund ca 8€(Nacht)\nEs gibt auch ei
 n Zimmer in einem 4 Sterne Hotel an der Piste mit SPA\, kosten auf Anfrage
 .\nTrainerkosten 150€ einmalig Skating\, Trainerkosten Skijoering 50€ 
 einmalig\, Loipenbenutzung 40€ einmalig\, Exklusive Skijoering Loipe 30
 €\nSkating Leihausrüstung /Tag ca 30€\n\n\n\nWir freuen uns auf einig
 e gemeinsame Tage in der Ramsau.\n\n\n\nAnmeldungen hier\, dein Platz ist 
 erst nach der 100€ Anzahlung für dich reserviert.\nFragen an Wien@speed
 runners.at\n\n\nEuer SpeedRunners.at Laufen mit Hund Team\n\n\n\n\n\n\n\n\
 n\n\nFotokredit Jagoda Waskowska\n
ATTACH;FMTTYPE=image/jpeg:https://canicross-coach.com/wp-content/uploads/2
 022/06/sportnachmass.png
CATEGORIES:Beratung Hundesport,Skijøring,Training,Training
 SpeedRunners.at,Zughundesport
END:VEVENT
END:VCALENDAR