BEGIN:VCALENDAR
VERSION:2.0
PRODID:-//wp-events-plugin.com//7.2.3.1//EN
BEGIN:VEVENT
UID:338@canicross-coach.com
DTSTART:20250213T120000Z
DTEND:20250216T120000Z
DTSTAMP:20241228T124719Z
URL:https://canicross-coach.com/events/skijoering-wochenden-fuer-fortgesch
 rittene-spr
SUMMARY:Skijoering Wochenden für Fortgeschrittene (SPR) Abgesagt
DESCRIPTION:\nLanglauf Skating Kurs\, mit Hund (Skijoering) oder ohne Hund 
 möglich.\n\n\nErlerne Langlaufen mit der modernen Skating Technik oder ve
 rbessere deine Technik. Geeignet nur für Fortgeschrittene.\n\n\n\nDatum 1
 3.02.-16.02.2025\nTrainer Skating Thomas Drucker von Sport nach Mass\nhttp
 s://sport-nach-mass.com/\nTrainer Skijoering Markus Gerstl\nUnterbringung 
 in einer Pension oder Hotel.\nTrainerkosten 180€ einmalig Skating\, Trai
 nerkosten Skijoering 70€ einmalig\, Loipenbenutzung 40€ einmalig\, Exk
 lusive Skijoering Loipe 30€\nSkating Leihausrüstung /Tag ca 30€\n\n\n
 Wir reservieren für euch die Zimmer\, organisieren gemeinsames Essen. Anr
 eisetag ist der 13.02.25  da könnt ihr Equipment organisieren und auslei
 hen\, zu vergünstigten Preisen. Am ersten Tag ist am Abend Besprechung de
 r folgenden Tage. Der 16.02. ist Abreisetag\, bei bedarf kann noch am Vorm
 ittag oder den ganzen Tag trainiert werden. Begleitpersonen oder Personen 
 ohne Hund sind ebenso Willkommen. Hundeloipe ca 2\,5km nicht für Anfänge
 r geeignet.\n\n\n\n\nWir freuen uns auf einige gemeinsame Tage.\n\n\n\nAnm
 eldungen nicht mehr möglich wegen zu wenig Teilnehmern abgesagt.\nFragen 
 an Wien@speedrunners.at\n\n\nEuer SpeedRunners.at Laufen mit Hund Team\n\n
 \n\n\n\n\n\n\n\n\n\n\n\nFotokredit Jagoda Waskowska\n
ATTACH;FMTTYPE=image/jpeg:https://canicross-coach.com/wp-content/uploads/2
 022/06/sportnachmass.png
CATEGORIES:Beratung Hundesport,Skijøring,Training,Training
 SpeedRunners.at,Zughundesport
END:VEVENT
END:VCALENDAR