BEGIN:VCALENDAR
VERSION:2.0
PRODID:-//wp-events-plugin.com//7.2.3.1//EN
BEGIN:VEVENT
UID:341@canicross-coach.com
DTSTART;TZID=Europe/Vienna;VALUE=DATE:20250111
DTEND;TZID=Europe/Vienna;VALUE=DATE:20250113
DTSTAMP:20240317T093437Z
URL:https://canicross-coach.com/events/schneerennen-postalm-3
SUMMARY:Schneerennen Postalm
DESCRIPTION:On Snow mit Snow Canicross.\n\nVeranstalter HSV-ÖSHS
ATTACH;FMTTYPE=image/jpeg:https://canicross-coach.com/wp-content/uploads/2
 023/09/HSV_OESHS.png
CATEGORIES:Canicross,Skijøring
END:VEVENT
BEGIN:VTIMEZONE
TZID:Europe/Vienna
X-LIC-LOCATION:Europe/Vienna
BEGIN:STANDARD
DTSTART:20241027T020000
TZOFFSETFROM:+0200
TZOFFSETTO:+0100
TZNAME:CET
END:STANDARD
END:VTIMEZONE
END:VCALENDAR