BEGIN:VCALENDAR
VERSION:2.0
PRODID:-//wp-events-plugin.com//7.2.3.1//EN
BEGIN:VEVENT
UID:334@canicross-coach.com
DTSTART:20241005T000000Z
DTEND:20241006T000000Z
DTSTAMP:20231009T080426Z
URL:https://canicross-coach.com/events/nordic-mountain-challenge-2024-renn
 en-nur-canicross
SUMMARY:Nordic Mountain Challenge 2024 (Rennen nur Canicross)
DESCRIPTION:Kontakt https://nordic-mountain-challenge.at/\n\n\nDas Canicro
 ssevent im oberen Waldviertel\n\nDie Strecke verläuft zu 98% im Wald. Es 
 sind knackige 175 Höhenmeter Aufstieg/Abstieg auf einer Strecke von 6\,9 
 KM zu bewältigen. Der Untergrund ist fast ausschließlich Waldboden und l
 eicht geschotterte Forstwege. Kurzfristige Anstiege mit bis zu 14% Steigun
 g versüßen euch zusätzlich den Lauf.\nKurze Strecke NMC-Shorty\, eine k
 ürzere Version des Laufes ca 3\,2km ca 70 Höhenmeter.\n\nEs wird einen M
 odus geben\, man läuft an beiden Tagen die gleiche Strecke und es wird am
  Schluß die Gesamtzeit beider Tage Gewertet.\n\nEine Orientierungswanderu
 ng am Samstag Nachmittag wird eine Karte incl GPS-Daten ausgegeben und man
  muss Punkte auf der Karte finden und zur Kontrolle Abstempeln. genauere I
 nfos(Streckenlänge) folgen als bald.\nEbenso ist es wieder möglich in de
 r Happy-Dog Klasse ohne Wertung mitzulaufen.\nAnreise am Freitag dem 04.10
 . möglich mit Startnummern Ausgabe und Vetcheck.\nMehr Infos und Anmeldun
 g auf der Homepage\n\nhttps://nordic-mountain-challenge.at/\n\n\n&nbsp\;\n
 \n
ATTACH;FMTTYPE=image/jpeg:https://canicross-coach.com/wp-content/uploads/2
 020/04/5e16e3f8ecc359.09383634.jpeg
LOCATION:Sportplatz Dietmanns\, Am Osthang 20\, Dietmanns\, Niederösterrei
 ch\, 3813\, Österreich
X-APPLE-STRUCTURED-LOCATION;VALUE=URI;X-ADDRESS=Am Osthang 20\, Dietmanns\,
  Niederösterreich\, 3813\, Österreich;X-APPLE-RADIUS=100;X-TITLE=Sportpl
 atz Dietmanns:geo:0,0
END:VEVENT
END:VCALENDAR