BEGIN:VCALENDAR
VERSION:2.0
PRODID:-//wp-events-plugin.com//7.2.3.1//EN
BEGIN:VEVENT
UID:342@canicross-coach.com
DTSTART;TZID=Europe/Vienna:20241020T000000
DTEND;TZID=Europe/Vienna:20241025T000000
DTSTAMP:20240317T093926Z
URL:https://canicross-coach.com/events/internationales-trainingscamp-in-re
 ingers
SUMMARY:Internationales Trainingscamp in Reingers
DESCRIPTION:Sonntag\, 20. Oktober 2024\nbis Freitag\, 25. Oktober 2024\n\nI
 nfos:  https://www.bssc-austria.at
ATTACH;FMTTYPE=image/jpeg:https://canicross-coach.com/wp-content/uploads/2
 024/03/bssc_logo_klein.jpg
END:VEVENT
BEGIN:VTIMEZONE
TZID:Europe/Vienna
X-LIC-LOCATION:Europe/Vienna
BEGIN:DAYLIGHT
DTSTART:20240331T030000
TZOFFSETFROM:+0100
TZOFFSETTO:+0200
TZNAME:CEST
END:DAYLIGHT
END:VTIMEZONE
END:VCALENDAR