BEGIN:VCALENDAR
VERSION:2.0
PRODID:-//wp-events-plugin.com//7.2.3.1//EN
BEGIN:VEVENT
UID:343@canicross-coach.com
DTSTART;TZID=Europe/Vienna;VALUE=DATE:20241015
DTEND;TZID=Europe/Vienna;VALUE=DATE:20241021
DTSTAMP:20240410T171339Z
URL:https://canicross-coach.com/events/icf-weltmeisterschaft-2024
SUMMARY:ICF-Weltmeisterschaft 2024
DESCRIPTION:Canicross Italia CSEN arbeitet bereits seit Monaten daran\, Ihn
 en eine unvergessliche Weltmeisterschaft zu bieten\, die den Standards der
  International Canicross Federation entspricht.\nEs erwartet Sie ein Sport
 ereignis auf höchstem Niveau\, mit gutem Essen\, gutem Wein\, einem herzl
 ichen italienischen Empfang und einer unglaublichen Landschaft.\nDie Renns
 trecke wird eine Herausforderung sein\, hart und voller Höhen und Tiefen\
 , mit abwechslungsreichem und anregendem Gelände für den Hund.\nBLEIBEN 
 SIE DRAN!!!\n#icf2024bardo\nNeewa\nDogSpecialist.it\nIMPETUSdog\n\nVeranst
 altungsort Google Maps Link\n\nLink Veranstalter .it\n\nMehr Details komme
 n Zeitnah!\n\n\n\n
ATTACH;FMTTYPE=image/jpeg:https://canicross-coach.com/wp-content/uploads/2
 024/04/WhatsApp-Bild-2024-04-10-um-18.08.54_23633178.jpg
LOCATION:Bardonecchia\, Bardonecchia\, Bardonecchia\, Turin\, 10052\, Itali
 en
X-APPLE-STRUCTURED-LOCATION;VALUE=URI;X-ADDRESS=Bardonecchia\, Bardonecchia
 \, Turin\, 10052\, Italien;X-APPLE-RADIUS=100;X-TITLE=Bardonecchia:geo:0,0
END:VEVENT
BEGIN:VTIMEZONE
TZID:Europe/Vienna
X-LIC-LOCATION:Europe/Vienna
BEGIN:DAYLIGHT
DTSTART:20240331T030000
TZOFFSETFROM:+0100
TZOFFSETTO:+0200
TZNAME:CEST
END:DAYLIGHT
END:VTIMEZONE
END:VCALENDAR